BEGIN:VCALENDAR
VERSION:2.0
PRODID:-//ACA - ECPv4.5.13//NONSGML v1.0//EN
CALSCALE:GREGORIAN
METHOD:PUBLISH
X-WR-CALNAME:ACA
X-ORIGINAL-URL:http://aca.ie
X-WR-CALDESC:Events for ACA
BEGIN:VEVENT
DTSTART;VALUE=DATE:20170926
DTEND;VALUE=DATE:20170926
DTSTAMP:20171028T074752
CREATED:20170922T093110Z
LAST-MODIFIED:20170926T102554Z
UID:1472-1506384000-1506470399@aca.ie
SUMMARY:Farm Safety Training Bandon Hotel Wexford
DESCRIPTION:
URL:http://aca.ie/event/farm-safety-training/
LOCATION:Bandon Hotel\, Wexford\, Wexford\, V93 FX00\, Ireland
END:VEVENT
BEGIN:VEVENT
DTSTART;TZID=UTC+0:20170927T100000
DTEND;TZID=UTC+0:20170927T170000
DTSTAMP:20171028T074752
CREATED:20170926T101446Z
LAST-MODIFIED:20170926T101446Z
UID:1516-1506506400-1506531600@aca.ie
SUMMARY:GLAS Training Kilarney Heights Hotel
DESCRIPTION:
URL:http://aca.ie/event/glas-training-kilarney-heights-hotel/
LOCATION:Ireland
END:VEVENT
BEGIN:VEVENT
DTSTART;TZID=UTC+0:20170928T000000
DTEND;TZID=UTC+0:20170928T000000
DTSTAMP:20171028T074753
CREATED:20170926T102507Z
LAST-MODIFIED:20170926T104814Z
UID:1530-1506556800-1506556800@aca.ie
SUMMARY:Farm Safety Training - Aspect Hotel Kilkenny
DESCRIPTION:
URL:http://aca.ie/event/farm-safety-training-aspect-hotel-kilkenny/
END:VEVENT
BEGIN:VEVENT
DTSTART;TZID=UTC+0:20170929T100000
DTEND;TZID=UTC+0:20170929T170000
DTSTAMP:20171028T074753
CREATED:20170922T084628Z
LAST-MODIFIED:20170926T100419Z
UID:1464-1506679200-1506704400@aca.ie
SUMMARY:GLAS Training Ballymagovern Co Cavan
DESCRIPTION:
URL:http://aca.ie/event/glas-training-2/
LOCATION:Ballymagovern\, Cavan\, Ireland
END:VEVENT
BEGIN:VEVENT
DTSTART;TZID=UTC+0:20170929T100000
DTEND;TZID=UTC+0:20170929T170000
DTSTAMP:20171028T074753
CREATED:20170928T120354Z
LAST-MODIFIED:20170928T121924Z
UID:1559-1506679200-1506704400@aca.ie
SUMMARY:GLAS Training Longford
DESCRIPTION:
URL:http://aca.ie/event/glas-training-longford/
LOCATION:Granard Town\, Longford\, Ireland
END:VEVENT
BEGIN:VEVENT
DTSTART;TZID=UTC+0:20170930T100000
DTEND;TZID=UTC+0:20170930T170000
DTSTAMP:20171028T074753
CREATED:20170922T084712Z
LAST-MODIFIED:20170926T100556Z
UID:1466-1506765600-1506790800@aca.ie
SUMMARY:GLAS Training Ballymagovern Co Cavan
DESCRIPTION:
URL:http://aca.ie/event/glas-training-3/
LOCATION:Ballymagovern\, Cavan\, Ireland
END:VEVENT
BEGIN:VEVENT
DTSTART;TZID=UTC+0:20170930T100000
DTEND;TZID=UTC+0:20170930T170000
DTSTAMP:20171028T074753
CREATED:20170928T120441Z
LAST-MODIFIED:20170928T121847Z
UID:1562-1506765600-1506790800@aca.ie
SUMMARY:GLAS Training Longford
DESCRIPTION:
URL:http://aca.ie/event/glas-training-longford-2/
LOCATION:Granard Town\, Longford\, Ireland
END:VEVENT
BEGIN:VEVENT
DTSTART;TZID=UTC+0:20171002T100000
DTEND;TZID=UTC+0:20171002T170000
DTSTAMP:20171028T074753
CREATED:20170929T101939Z
LAST-MODIFIED:20170929T101939Z
UID:1582-1506938400-1506963600@aca.ie
SUMMARY:GLAS Training Crossdoney Cavan
DESCRIPTION:
URL:http://aca.ie/event/glas-training-crossdoney-cavan/
END:VEVENT
BEGIN:VEVENT
DTSTART;TZID=UTC+0:20171003T100000
DTEND;TZID=UTC+0:20171003T170000
DTSTAMP:20171028T074753
CREATED:20170926T101625Z
LAST-MODIFIED:20170926T101625Z
UID:1520-1507024800-1507050000@aca.ie
SUMMARY:GLAS Training Ring of Kerry Hotel Caherciveen
DESCRIPTION:
URL:http://aca.ie/event/glas-training-ring-of-kerry-hotel-caherciveen/
END:VEVENT
BEGIN:VEVENT
DTSTART;TZID=UTC+0:20171004T100000
DTEND;TZID=UTC+0:20171004T170000
DTSTAMP:20171028T074753
CREATED:20170926T101746Z
LAST-MODIFIED:20170926T101746Z
UID:1523-1507111200-1507136400@aca.ie
SUMMARY:GLAS Training Ring of Kerry Hotel Caherciveen
DESCRIPTION:
URL:http://aca.ie/event/glas-training-ring-of-kerry-hotel-caherciveen-2/
END:VEVENT
BEGIN:VEVENT
DTSTART;TZID=UTC+0:20171004T100000
DTEND;TZID=UTC+0:20171004T170000
DTSTAMP:20171028T074753
CREATED:20170929T102036Z
LAST-MODIFIED:20170929T102036Z
UID:1586-1507111200-1507136400@aca.ie
SUMMARY:GLAS Training Crossdoney Cavan
DESCRIPTION:
URL:http://aca.ie/event/glas-training-crossdoney-cavan-2/
END:VEVENT
BEGIN:VEVENT
DTSTART;TZID=UTC+0:20171004T180000
DTEND;TZID=UTC+0:20171004T210000
DTSTAMP:20171028T074753
CREATED:20171003T115516Z
LAST-MODIFIED:20171003T115516Z
UID:1632-1507140000-1507150800@aca.ie
SUMMARY:TAMS Health & Safety Training - Gort\, Galway
DESCRIPTION:
URL:http://aca.ie/event/tams-health-safety-training-gort-galway/
END:VEVENT
BEGIN:VEVENT
DTSTART;TZID=UTC+0:20171006T100000
DTEND;TZID=UTC+0:20171006T170000
DTSTAMP:20171028T074753
CREATED:20170922T084913Z
LAST-MODIFIED:20170926T101007Z
UID:1468-1507284000-1507309200@aca.ie
SUMMARY:GLAS Training Ballymagovern Co Cavan
DESCRIPTION:
URL:http://aca.ie/event/glas-training-4/
LOCATION:Ballymagovern\, Cavan\, Ireland
END:VEVENT
BEGIN:VEVENT
DTSTART;TZID=UTC+0:20171006T100000
DTEND;TZID=UTC+0:20171006T170000
DTSTAMP:20171028T074753
CREATED:20170928T120520Z
LAST-MODIFIED:20170928T121808Z
UID:1564-1507284000-1507309200@aca.ie
SUMMARY:GLAS Training Longford
DESCRIPTION:
URL:http://aca.ie/event/glas-training-longford-3/
LOCATION:Granard Town\, Longford\, Ireland
END:VEVENT
BEGIN:VEVENT
DTSTART;TZID=UTC+0:20171006T100000
DTEND;TZID=UTC+0:20171006T170000
DTSTAMP:20171028T074753
CREATED:20170929T102114Z
LAST-MODIFIED:20170929T102114Z
UID:1588-1507284000-1507309200@aca.ie
SUMMARY:GLAS Training Crossdoney Cavan
DESCRIPTION:
URL:http://aca.ie/event/glas-training-crossdoney-cavan-3/
END:VEVENT
BEGIN:VEVENT
DTSTART;TZID=UTC+0:20171007T100000
DTEND;TZID=UTC+0:20171007T170000
DTSTAMP:20171028T074753
CREATED:20170922T084949Z
LAST-MODIFIED:20170926T101056Z
UID:1470-1507370400-1507395600@aca.ie
SUMMARY:GLAS Training Ballymagovern Co Cavan
DESCRIPTION:
URL:http://aca.ie/event/glas-training-5/
LOCATION:Ballymagovern\, Cavan\, Ireland
END:VEVENT
BEGIN:VEVENT
DTSTART;TZID=UTC+0:20171007T100000
DTEND;TZID=UTC+0:20171007T170000
DTSTAMP:20171028T074753
CREATED:20170928T120605Z
LAST-MODIFIED:20170928T121729Z
UID:1566-1507370400-1507395600@aca.ie
SUMMARY:GLAS Training Longford
DESCRIPTION:
URL:http://aca.ie/event/glas-training-longford-4/
LOCATION:Granard Town\, Longford\, Ireland
END:VEVENT
BEGIN:VEVENT
DTSTART;TZID=UTC+0:20171009T100000
DTEND;TZID=UTC+0:20171009T170000
DTSTAMP:20171028T074753
CREATED:20170926T101208Z
LAST-MODIFIED:20170926T101208Z
UID:1514-1507543200-1507568400@aca.ie
SUMMARY:GLAS Training Ballymagovern Co Cavan
DESCRIPTION:
URL:http://aca.ie/event/glas-training-ballymagovern-co-cavan/
LOCATION:Ballymagovern\, Cavan\, Ireland
END:VEVENT
BEGIN:VEVENT
DTSTART;TZID=UTC+0:20171009T100000
DTEND;TZID=UTC+0:20171009T170000
DTSTAMP:20171028T074753
CREATED:20170929T102216Z
LAST-MODIFIED:20170929T102216Z
UID:1592-1507543200-1507568400@aca.ie
SUMMARY:GLAS Training Crossdoney Cavan
DESCRIPTION:
URL:http://aca.ie/event/glas-training-crossdoney-cavan-4/
END:VEVENT
BEGIN:VEVENT
DTSTART;TZID=UTC+0:20171010T100000
DTEND;TZID=UTC+0:20171010T170000
DTSTAMP:20171028T074753
CREATED:20170926T101851Z
LAST-MODIFIED:20170926T101851Z
UID:1525-1507629600-1507654800@aca.ie
SUMMARY:GLAS Training Munster Arms Hotel Bandon
DESCRIPTION:
URL:http://aca.ie/event/glas-training-munster-arms-hotel-bandon/
END:VEVENT
BEGIN:VEVENT
DTSTART;TZID=UTC+0:20171010T100000
DTEND;TZID=UTC+0:20171010T170000
DTSTAMP:20171028T074753
CREATED:20170926T103847Z
LAST-MODIFIED:20170926T103847Z
UID:1534-1507629600-1507654800@aca.ie
SUMMARY:GLAS Training - Carroll's Hotel - Knocktopher - Co Kilkenny
DESCRIPTION:
URL:http://aca.ie/event/glas-training-carrolls-hotel-knocktopher-co-kilkenny/
END:VEVENT
BEGIN:VEVENT
DTSTART;TZID=UTC+0:20171010T100000
DTEND;TZID=UTC+0:20171010T170000
DTSTAMP:20171028T074753
CREATED:20171009T092725Z
LAST-MODIFIED:20171009T092725Z
UID:1643-1507629600-1507654800@aca.ie
SUMMARY:GLAS Training - Tullow - Co Carlow
DESCRIPTION:
URL:http://aca.ie/event/glas-training-tullow-co-carlow/
END:VEVENT
BEGIN:VEVENT
DTSTART;TZID=UTC+0:20171011T100000
DTEND;TZID=UTC+0:20171011T170000
DTSTAMP:20171028T074753
CREATED:20170926T101933Z
LAST-MODIFIED:20170926T101933Z
UID:1528-1507716000-1507741200@aca.ie
SUMMARY:GLAS Training Munster Arms Hotel Bandon
DESCRIPTION:
URL:http://aca.ie/event/glas-training-munster-arms-hotel-bandon-2/
END:VEVENT
BEGIN:VEVENT
DTSTART;TZID=UTC+0:20171011T100000
DTEND;TZID=UTC+0:20171011T170000
DTSTAMP:20171028T074753
CREATED:20170929T102257Z
LAST-MODIFIED:20170929T102257Z
UID:1594-1507716000-1507741200@aca.ie
SUMMARY:GLAS Training Crossdoney Cavan
DESCRIPTION:
URL:http://aca.ie/event/glas-training-crossdoney-cavan-5/
END:VEVENT
BEGIN:VEVENT
DTSTART;TZID=UTC+0:20171012T100000
DTEND;TZID=UTC+0:20171012T170000
DTSTAMP:20171028T074753
CREATED:20170928T120640Z
LAST-MODIFIED:20170928T121643Z
UID:1568-1507802400-1507827600@aca.ie
SUMMARY:GLAS Training Longford
DESCRIPTION:
URL:http://aca.ie/event/glas-training-longford-5/
LOCATION:Granard Town\, Longford\, Ireland
END:VEVENT
BEGIN:VEVENT
DTSTART;TZID=UTC+0:20171013T100000
DTEND;TZID=UTC+0:20171013T170000
DTSTAMP:20171028T074753
CREATED:20170929T102339Z
LAST-MODIFIED:20170929T102339Z
UID:1596-1507888800-1507914000@aca.ie
SUMMARY:GLAS Training Crossdoney Cavan
DESCRIPTION:
URL:http://aca.ie/event/glas-training-crossdoney-cavan-6/
END:VEVENT
BEGIN:VEVENT
DTSTART;TZID=UTC+0:20171014T100000
DTEND;TZID=UTC+0:20171014T170000
DTSTAMP:20171028T074753
CREATED:20170926T103958Z
LAST-MODIFIED:20170926T103958Z
UID:1538-1507975200-1508000400@aca.ie
SUMMARY:GLAS Training - Carroll's Hotel - Knocktopher\, Co Kilkenny
DESCRIPTION:
URL:http://aca.ie/event/glas-training-carrolls-hotel-knocktopher-co-kilkenny-2/
END:VEVENT
BEGIN:VEVENT
DTSTART;TZID=UTC+0:20171014T100000
DTEND;TZID=UTC+0:20171014T170000
DTSTAMP:20171028T074753
CREATED:20171009T092520Z
LAST-MODIFIED:20171009T092520Z
UID:1637-1507975200-1508000400@aca.ie
SUMMARY:GLAS Training - Birr - Co Offaly
DESCRIPTION:
URL:http://aca.ie/event/glas-training-birr-co-offaly/
END:VEVENT
BEGIN:VEVENT
DTSTART;TZID=UTC+0:20171016T100000
DTEND;TZID=UTC+0:20171016T170000
DTSTAMP:20171028T074753
CREATED:20170929T102419Z
LAST-MODIFIED:20170929T102419Z
UID:1598-1508148000-1508173200@aca.ie
SUMMARY:GLAS Training Crossdoney Cavan
DESCRIPTION:
URL:http://aca.ie/event/glas-training-crossdoney-cavan-7/
END:VEVENT
BEGIN:VEVENT
DTSTART;TZID=UTC+0:20171017T100000
DTEND;TZID=UTC+0:20171017T170000
DTSTAMP:20171028T074753
CREATED:20170926T104054Z
LAST-MODIFIED:20170926T104201Z
UID:1540-1508234400-1508259600@aca.ie
SUMMARY:GLAS Training - Horse & Hound Hotel - Ballinaboola\, Foulksmills\, Co Wexford
DESCRIPTION:
URL:http://aca.ie/event/glas-training-carrolls-hotel-knocktopher-co-kilkenny-3/
END:VEVENT
BEGIN:VEVENT
DTSTART;TZID=UTC+0:20171017T100000
DTEND;TZID=UTC+0:20171017T170000
DTSTAMP:20171028T074753
CREATED:20170928T092339Z
LAST-MODIFIED:20170928T092442Z
UID:1553-1508234400-1508259600@aca.ie
SUMMARY:GLAS Training - Lixnaw Community Hall\, Lixnaw\, Co Kerry
DESCRIPTION:
URL:http://aca.ie/event/glas-training-lixnaw-community-hall-lixnaw-co-kerry/
END:VEVENT
BEGIN:VEVENT
DTSTART;TZID=UTC+0:20171017T100000
DTEND;TZID=UTC+0:20171017T170000
DTSTAMP:20171028T074753
CREATED:20170929T124751Z
LAST-MODIFIED:20170929T124751Z
UID:1606-1508234400-1508259600@aca.ie
SUMMARY:GLAS Training Longford Arms Hotel Longford
DESCRIPTION:
URL:http://aca.ie/event/glas-training-longford-arms-hotel-longford/
LOCATION:Ireland
END:VEVENT
BEGIN:VEVENT
DTSTART;TZID=UTC+0:20171017T100000
DTEND;TZID=UTC+0:20171017T170000
DTSTAMP:20171028T074753
CREATED:20171009T092805Z
LAST-MODIFIED:20171009T092805Z
UID:1647-1508234400-1508259600@aca.ie
SUMMARY:GLAS Training - Tullow - Co Carlow
DESCRIPTION:
URL:http://aca.ie/event/glas-training-tullow-co-carlow-2/
END:VEVENT
BEGIN:VEVENT
DTSTART;TZID=UTC+0:20171018T100000
DTEND;TZID=UTC+0:20171018T170000
DTSTAMP:20171028T074753
CREATED:20170928T120720Z
LAST-MODIFIED:20170928T121423Z
UID:1570-1508320800-1508346000@aca.ie
SUMMARY:GLAS Training Longford
DESCRIPTION:
URL:http://aca.ie/event/glas-training-longford-6/
LOCATION:Granard Town\, Longford\, Ireland
END:VEVENT
BEGIN:VEVENT
DTSTART;TZID=UTC+0:20171018T100000
DTEND;TZID=UTC+0:20171018T170000
DTSTAMP:20171028T074753
CREATED:20170929T102501Z
LAST-MODIFIED:20170929T102501Z
UID:1600-1508320800-1508346000@aca.ie
SUMMARY:GLAS Training Crossdoney Cavan
DESCRIPTION:
URL:http://aca.ie/event/glas-training-crossdoney-cavan-8/
END:VEVENT
BEGIN:VEVENT
DTSTART;TZID=UTC+0:20171019T100000
DTEND;TZID=UTC+0:20171019T170000
DTSTAMP:20171028T074753
CREATED:20170928T092533Z
LAST-MODIFIED:20170928T092533Z
UID:1557-1508407200-1508432400@aca.ie
SUMMARY:GLAS Training - Lixnaw Community Hall\, Lixnaw\, Co Kerry
DESCRIPTION:
URL:http://aca.ie/event/glas-training-lixnaw-community-hall-lixnaw-co-kerry-2/
END:VEVENT
BEGIN:VEVENT
DTSTART;TZID=UTC+0:20171019T100000
DTEND;TZID=UTC+0:20171019T170000
DTSTAMP:20171028T074753
CREATED:20170928T120802Z
LAST-MODIFIED:20170928T121322Z
UID:1572-1508407200-1508432400@aca.ie
SUMMARY:GLAS Training Longford
DESCRIPTION:
URL:http://aca.ie/event/glas-training-longford-7/
LOCATION:Granard Town\, Longford\, Ireland
END:VEVENT
BEGIN:VEVENT
DTSTART;TZID=UTC+0:20171019T100000
DTEND;TZID=UTC+0:20171019T170000
DTSTAMP:20171028T074753
CREATED:20170929T102541Z
LAST-MODIFIED:20170929T102541Z
UID:1602-1508407200-1508432400@aca.ie
SUMMARY:GLAS Training Crossdoney Cavan
DESCRIPTION:
URL:http://aca.ie/event/glas-training-crossdoney-cavan-9/
END:VEVENT
BEGIN:VEVENT
DTSTART;TZID=UTC+0:20171019T100000
DTEND;TZID=UTC+0:20171019T170000
DTSTAMP:20171028T074753
CREATED:20171018T090543Z
LAST-MODIFIED:20171018T090543Z
UID:1668-1508407200-1508432400@aca.ie
SUMMARY:GLAS Training - Athy - Co Kildare
DESCRIPTION:
URL:http://aca.ie/event/glas-training-athy-co-kildare/
END:VEVENT
BEGIN:VEVENT
DTSTART;TZID=UTC+0:20171020T100000
DTEND;TZID=UTC+0:20171020T170000
DTSTAMP:20171028T074753
CREATED:20170928T120838Z
LAST-MODIFIED:20170928T121236Z
UID:1574-1508493600-1508518800@aca.ie
SUMMARY:GLAS Training Longford
DESCRIPTION:
URL:http://aca.ie/event/glas-training-longford-8/
LOCATION:Granard Town\, Longford\, Ireland
END:VEVENT
BEGIN:VEVENT
DTSTART;TZID=UTC+0:20171020T100000
DTEND;TZID=UTC+0:20171020T170000
DTSTAMP:20171028T074753
CREATED:20170929T102624Z
LAST-MODIFIED:20170929T102624Z
UID:1604-1508493600-1508518800@aca.ie
SUMMARY:GLAS Training Crossdoney Cavan
DESCRIPTION:
URL:http://aca.ie/event/glas-training-crossdoney-cavan-10/
END:VEVENT
BEGIN:VEVENT
DTSTART;TZID=UTC+0:20171020T100000
DTEND;TZID=UTC+0:20171020T170000
DTSTAMP:20171028T074753
CREATED:20170929T124832Z
LAST-MODIFIED:20170929T124832Z
UID:1610-1508493600-1508518800@aca.ie
SUMMARY:GLAS Training Longford Arms Hotel Longford
DESCRIPTION:
URL:http://aca.ie/event/glas-training-longford-arms-hotel-longford-2/
LOCATION:Ireland
END:VEVENT
BEGIN:VEVENT
DTSTART;TZID=UTC+0:20171020T100000
DTEND;TZID=UTC+0:20171020T170000
DTSTAMP:20171028T074753
CREATED:20171011T083313Z
LAST-MODIFIED:20171011T083313Z
UID:1653-1508493600-1508518800@aca.ie
SUMMARY:GLAS Training - Ballymote - Sligo
DESCRIPTION:
URL:http://aca.ie/event/glas-training-ballymote-sligo/
END:VEVENT
BEGIN:VEVENT
DTSTART;TZID=UTC+0:20171021T100000
DTEND;TZID=UTC+0:20171021T170000
DTSTAMP:20171028T074753
CREATED:20171010T091354Z
LAST-MODIFIED:20171010T091354Z
UID:1649-1508580000-1508605200@aca.ie
SUMMARY:GLAS Training - Causeway - Kerry
DESCRIPTION:
URL:http://aca.ie/event/glas-training-causeway-kerry/
LOCATION:Kerry
END:VEVENT
BEGIN:VEVENT
DTSTART;TZID=UTC+0:20171021T100000
DTEND;TZID=UTC+0:20171021T170000
DTSTAMP:20171028T074753
CREATED:20171011T083403Z
LAST-MODIFIED:20171011T083403Z
UID:1657-1508580000-1508605200@aca.ie
SUMMARY:GLAS Training - Tubbercurry - Sligo
DESCRIPTION:
URL:http://aca.ie/event/glas-training-tubbercurry-sligo/
END:VEVENT
BEGIN:VEVENT
DTSTART;TZID=UTC+0:20171024T100000
DTEND;TZID=UTC+0:20171024T170000
DTSTAMP:20171028T074753
CREATED:20170929T124908Z
LAST-MODIFIED:20170929T124908Z
UID:1612-1508839200-1508864400@aca.ie
SUMMARY:GLAS Training Longford Arms Hotel Longford
DESCRIPTION:
URL:http://aca.ie/event/glas-training-longford-arms-hotel-longford-3/
LOCATION:Ireland
END:VEVENT
BEGIN:VEVENT
DTSTART;TZID=UTC+0:20171026T100000
DTEND;TZID=UTC+0:20171026T170000
DTSTAMP:20171028T074753
CREATED:20171018T090715Z
LAST-MODIFIED:20171018T090715Z
UID:1672-1509012000-1509037200@aca.ie
SUMMARY:GLAS Training - Carlow
DESCRIPTION:
URL:http://aca.ie/event/glas-training-carlow/
END:VEVENT
BEGIN:VEVENT
DTSTART;TZID=UTC+0:20171028T100000
DTEND;TZID=UTC+0:20171028T170000
DTSTAMP:20171028T074753
CREATED:20170926T104240Z
LAST-MODIFIED:20170926T104240Z
UID:1544-1509184800-1509210000@aca.ie
SUMMARY:GLAS Training - Horse & Hound Hotel - Ballinaboola\, Foulksmills\, Co Wexford
DESCRIPTION:
URL:http://aca.ie/event/glas-training-horse-hound-hotel-ballinaboola-foulksmills-co-wexford/
END:VEVENT
BEGIN:VEVENT
DTSTART;TZID=UTC+0:20171028T100000
DTEND;TZID=UTC+0:20171028T170000
DTSTAMP:20171028T074753
CREATED:20171012T102824Z
LAST-MODIFIED:20171012T102824Z
UID:1661-1509184800-1509210000@aca.ie
SUMMARY:GLAS Training - Kiltimagh - Co Mayo
DESCRIPTION:
URL:http://aca.ie/event/glas-training-kiltimagh-co-mayo/
END:VEVENT
BEGIN:VEVENT
DTSTART;TZID=UTC+0:20171028T100000
DTEND;TZID=UTC+0:20171028T170000
DTSTAMP:20171028T074753
CREATED:20171025T102105Z
LAST-MODIFIED:20171025T102105Z
UID:1719-1509184800-1509210000@aca.ie
SUMMARY:GLAS Training - Castlepollard - Westmeath
DESCRIPTION:
URL:http://aca.ie/event/glas-training-castlepollard-westmeath/
LOCATION:Ireland
ORGANIZER;CN="Jimmie%20Forbes":MAILTO:jimmie.forbes@gmail.com
END:VEVENT
BEGIN:VEVENT
DTSTART;TZID=UTC+0:20171031T100000
DTEND;TZID=UTC+0:20171031T170000
DTSTAMP:20171028T074753
CREATED:20170929T124942Z
LAST-MODIFIED:20170929T124942Z
UID:1614-1509444000-1509469200@aca.ie
SUMMARY:GLAS Training Longford Arms Hotel Longford
DESCRIPTION:
URL:http://aca.ie/event/glas-training-longford-arms-hotel-longford-4/
LOCATION:Ireland
END:VEVENT
BEGIN:VEVENT
DTSTART;TZID=UTC+0:20171031T100000
DTEND;TZID=UTC+0:20171031T170000
DTSTAMP:20171028T074753
CREATED:20171025T102209Z
LAST-MODIFIED:20171025T102209Z
UID:1723-1509444000-1509469200@aca.ie
SUMMARY:GLAS Training - Mullingar
DESCRIPTION:
URL:http://aca.ie/event/glas-training-mullingar/
ORGANIZER;CN="Jimmie%20Forbes":MAILTO:jimmie.forbes@gmail.com
END:VEVENT
BEGIN:VEVENT
DTSTART;VALUE=DATE:20171101
DTEND;VALUE=DATE:20171101
DTSTAMP:20171028T074753
CREATED:20170926T091008Z
LAST-MODIFIED:20170926T091008Z
UID:1475-1509494400-1509580799@aca.ie
SUMMARY:GLAS Training Ballybay\, Co Monaghan
DESCRIPTION:
URL:http://aca.ie/event/glas-training-ballybay-co-monaghan/
END:VEVENT
BEGIN:VEVENT
DTSTART;TZID=UTC+0:20171101T100000
DTEND;TZID=UTC+0:20171101T170000
DTSTAMP:20171028T074753
CREATED:20171018T090805Z
LAST-MODIFIED:20171018T090805Z
UID:1675-1509530400-1509555600@aca.ie
SUMMARY:GLAS Training - Carlow
DESCRIPTION:
URL:http://aca.ie/event/glas-training-carlow-2/
END:VEVENT
BEGIN:VEVENT
DTSTART;TZID=UTC+0:20171101T100000
DTEND;TZID=UTC+0:20171101T170000
DTSTAMP:20171028T074753
CREATED:20171025T102254Z
LAST-MODIFIED:20171025T102254Z
UID:1726-1509530400-1509555600@aca.ie
SUMMARY:GLAS Training - Mullingar
DESCRIPTION:
URL:http://aca.ie/event/glas-training-mullingar-2/
ORGANIZER;CN="Jimmie%20Forbes":MAILTO:jimmie.forbes@gmail.com
END:VEVENT
BEGIN:VEVENT
DTSTART;VALUE=DATE:20171102
DTEND;VALUE=DATE:20171102
DTSTAMP:20171028T074753
CREATED:20170926T091207Z
LAST-MODIFIED:20170926T091243Z
UID:1478-1509580800-1509667199@aca.ie
SUMMARY:GLAS Training Ballybay\, Co Monaghan
DESCRIPTION:
URL:http://aca.ie/event/glas-training-ballybay-co-monaghan-2/
END:VEVENT
BEGIN:VEVENT
DTSTART;TZID=UTC+0:20171102T100000
DTEND;TZID=UTC+0:20171102T170000
DTSTAMP:20171028T074753
CREATED:20171018T090914Z
LAST-MODIFIED:20171018T090914Z
UID:1677-1509616800-1509642000@aca.ie
SUMMARY:GLAS Training - Wicklow
DESCRIPTION:
URL:http://aca.ie/event/glas-training-wicklow/
END:VEVENT
BEGIN:VEVENT
DTSTART;TZID=UTC+0:20171102T100000
DTEND;TZID=UTC+0:20171102T170000
DTSTAMP:20171028T074753
CREATED:20171025T102329Z
LAST-MODIFIED:20171025T102329Z
UID:1728-1509616800-1509642000@aca.ie
SUMMARY:GLAS Training - Mullingar
DESCRIPTION:
URL:http://aca.ie/event/glas-training-mullingar-3/
ORGANIZER;CN="Jimmie%20Forbes":MAILTO:jimmie.forbes@gmail.com
END:VEVENT
BEGIN:VEVENT
DTSTART;VALUE=DATE:20171103
DTEND;VALUE=DATE:20171103
DTSTAMP:20171028T074753
CREATED:20170926T091322Z
LAST-MODIFIED:20170926T091322Z
UID:1480-1509667200-1509753599@aca.ie
SUMMARY:GLAS Training Ballybay\, Co Monaghan
DESCRIPTION:
URL:http://aca.ie/event/glas-training-ballybay-co-monaghan-3/
END:VEVENT
BEGIN:VEVENT
DTSTART;TZID=UTC+0:20171103T100000
DTEND;TZID=UTC+0:20171103T170000
DTSTAMP:20171028T074753
CREATED:20170928T120916Z
LAST-MODIFIED:20170928T121550Z
UID:1576-1509703200-1509728400@aca.ie
SUMMARY:GLAS Training Longford
DESCRIPTION:
URL:http://aca.ie/event/glas-training-longford-9/
LOCATION:Granard Town\, Longford\, Ireland
END:VEVENT
BEGIN:VEVENT
DTSTART;TZID=UTC+0:20171103T100000
DTEND;TZID=UTC+0:20171103T170000
DTSTAMP:20171028T074753
CREATED:20171025T102407Z
LAST-MODIFIED:20171025T102407Z
UID:1730-1509703200-1509728400@aca.ie
SUMMARY:GLAS Training - Mullingar
DESCRIPTION:
URL:http://aca.ie/event/glas-training-mullingar-4/
ORGANIZER;CN="Jimmie%20Forbes":MAILTO:jimmie.forbes@gmail.com
END:VEVENT
BEGIN:VEVENT
DTSTART;TZID=UTC+0:20171104T100000
DTEND;TZID=UTC+0:20171104T170000
DTSTAMP:20171028T074753
CREATED:20170928T120948Z
LAST-MODIFIED:20170928T121521Z
UID:1578-1509789600-1509814800@aca.ie
SUMMARY:GLAS Training Longford
DESCRIPTION:
URL:http://aca.ie/event/glas-training-longford-10/
LOCATION:Granard Town\, Longford\, Ireland
END:VEVENT
BEGIN:VEVENT
DTSTART;TZID=UTC+0:20171104T100000
DTEND;TZID=UTC+0:20171104T170000
DTSTAMP:20171028T074753
CREATED:20171002T084545Z
LAST-MODIFIED:20171024T085429Z
UID:1626-1509789600-1509814800@aca.ie
SUMMARY:GLAS Training - Cahir Road\, Clonmel\, Co Tipperary
DESCRIPTION:
URL:http://aca.ie/event/glas-training-cahir-road-clonmel-co-tipperary/
LOCATION:Ireland
END:VEVENT
BEGIN:VEVENT
DTSTART;TZID=UTC+0:20171104T100000
DTEND;TZID=UTC+0:20171104T170000
DTSTAMP:20171028T074753
CREATED:20171018T091000Z
LAST-MODIFIED:20171018T091000Z
UID:1680-1509789600-1509814800@aca.ie
SUMMARY:GLAS Training - Carlow
DESCRIPTION:
URL:http://aca.ie/event/glas-training-carlow-3/
END:VEVENT
BEGIN:VEVENT
DTSTART;TZID=UTC+0:20171104T100000
DTEND;TZID=UTC+0:20171104T170000
DTSTAMP:20171028T074753
CREATED:20171025T102443Z
LAST-MODIFIED:20171025T102443Z
UID:1732-1509789600-1509814800@aca.ie
SUMMARY:GLAS Training - Mullingar
DESCRIPTION:
URL:http://aca.ie/event/glas-training-mullingar-5/
ORGANIZER;CN="Jimmie%20Forbes":MAILTO:jimmie.forbes@gmail.com
END:VEVENT
END:VCALENDAR